﻿BEGIN:VCALENDAR
VERSION:2.0
PRODID:-//Mairie de Châteauroux-les-alpes - ECPv4.9.12//NONSGML v1.0//EN
CALSCALE:GREGORIAN
METHOD:PUBLISH
X-WR-CALNAME:Mairie de Châteauroux-les-alpes
X-ORIGINAL-URL:https://www.chateauroux-les-alpes.com
X-WR-CALDESC:Évènements pour Mairie de Châteauroux-les-alpes
BEGIN:VTIMEZONE
TZID:Europe/Paris
BEGIN:DAYLIGHT
TZOFFSETFROM:+0100
TZOFFSETTO:+0200
TZNAME:CEST
DTSTART:20220327T010000
END:DAYLIGHT
BEGIN:STANDARD
TZOFFSETFROM:+0200
TZOFFSETTO:+0100
TZNAME:CET
DTSTART:20221030T010000
END:STANDARD
END:VTIMEZONE
BEGIN:VEVENT
DTSTART;TZID=Europe/Paris:20220618T180000
DTEND;TZID=Europe/Paris:20220618T210000
DTSTAMP:20260419T220115
CREATED:20220506T135124Z
LAST-MODIFIED:20220509T090700Z
UID:12125-1655575200-1655586000@www.chateauroux-les-alpes.com
SUMMARY:Fête de la musique familiale
DESCRIPTION: \n
URL:https://www.chateauroux-les-alpes.com/evenements/fete-de-la-musique-familiale/
LOCATION:Jardin Public de Châteauroux-Les-Alpes\, Les Aubergeries\, Châteauroux Les Alpes\, 05380\, France
ORGANIZER;CN="Octopus":MAILTO:vincent@savina.net
END:VEVENT
END:VCALENDAR